<?xml version="1.0" encoding="ISO-8859-1"?>
<metadata>
  <idinfo>
    <citation>
      <citeinfo>
        <origin>Bill Kramber</origin>
        <pubdate>19981013</pubdate>
        <title>Digital Aerial Image of Township 03 N., Range 02 W., Idaho</title>
        <pubinfo>
          <pubplace>Boise, ID USA</pubplace>
          <publish>Idaho Department of Water Resources</publish>
        </pubinfo>
        <geoform Sync="TRUE">remote-sensing image</geoform>
      </citeinfo>
    </citation>
    <descript>
      <abstract>An aerial photograph is a photograph of the earth's surface taken with a camera mounted in an airplane. The geographic extent of this scanned, georectified, and mosaiced 1.5-meter pixel resolution black and white digital aerial photograph is approximately all of or a portion of the Public Land Survey System (PLSS) Township 01 N., Range 01 E., Idaho. 

This data set is one tile in a collection of 42 tiles acquired as part of the 1939 Treasure Valley Air Photo Project. The collection area includes almost all of Canyon county, portions of the north-western half of Ada county, the southern tip of Payette county, and a small portion of the south-western tip of Gem county.

The 1:20,000-scale black and white aerial photography used in the production of this mosaiced image was flown in the summer and winter of 1938 and 1939 by the USDA Soil Conservation Service.</abstract>
      <purpose>The images in this collection were used to develop land use and land cover data. They are for use at 1:24,000 and smaller scales. No responsibility is assumed by the Idaho Department of Water Resources in the use of these data.</purpose>
      <langdata Sync="TRUE">en</langdata>
    </descript>
    <timeperd>
      <timeinfo>
        <mdattim>
          <sngdate>
            <caldate>1938</caldate>
          </sngdate>
          <sngdate>
            <caldate>1939</caldate>
          </sngdate>
        </mdattim>
      </timeinfo>
      <current>ground condition</current>
    </timeperd>
    <status>
      <progress>Complete</progress>
      <update>None planned.</update>
    </status>
    <keywords>
      <theme>
        <themekt>ISO 19115 Topic Category</themekt>
        <themekey>imageryBaseMapsEarthCover</themekey>
      </theme>
      <theme>
        <themekt>None</themekt>
        <themekey>panchromatic digital aerial photograph</themekey>
        <themekey>scanned digital air photo</themekey>
        <themekey>air photo</themekey>
        <themekey>aerial photography</themekey>
        <themekey>aerial photo</themekey>
        <themekey>rectified image</themekey>
        <themekey>rectified photograph</themekey>
        <themekey>georeferenced image</themekey>
        <themekey>geocorrected image</themekey>
      </theme>
      <place>
        <placekt>STATE FIPS PUB 6-4 two-letter alpha State code</placekt>
        <placekey>ID</placekey>
      </place>
      <place>
        <placekt>None</placekt>
        <placekey>Treasure Valley Air Photo Project Area</placekey>
        <placekey>PM 08</placekey>
        <placekey>T03N</placekey>
        <placekey>R02W</placekey>
      </place>
    </keywords>
    <accconst>None</accconst>
    <useconst>None</useconst>
    <ptcontac>
      <cntinfo>
        <cntpos>Senior Remote Sensing Analyst</cntpos>
        <cntaddr>
          <addrtype>mailing address</addrtype>
          <address>322 East Front St.</address>
          <city>Boise</city>
          <state>Idaho</state>
          <postal>83720-0098</postal>
          <country>USA</country>
        </cntaddr>
        <cntvoice>208.287.4878</cntvoice>
        <cntemail>Bill.Kramber@idwr.idaho.gov</cntemail>
        <cntorgp>
          <cntorg>Idaho Department of Water Resources</cntorg>
          <cntper>Bill Kramber</cntper>
        </cntorgp>
      </cntinfo>
    </ptcontac>
    <datacred>GIS staff at the Idaho Department of Water Resources in cooperation with the US Bureau of Reclamation.</datacred>
    <native Sync="TRUE">Microsoft Windows 2000 Version 5.2 (Build 3790) Service Pack 2; ESRI ArcCatalog 9.3.1.3000</native>
    <spdom>
      <bounding>
        <westbc Sync="TRUE">-116.636745</westbc>
        <eastbc Sync="TRUE">-116.509512</eastbc>
        <northbc Sync="TRUE">43.636662</northbc>
        <southbc Sync="TRUE">43.544143</southbc>
      </bounding>
      <lboundng>
        <leftbc Sync="TRUE">2287302.000000</leftbc>
        <rightbc Sync="TRUE">2297274.000000</rightbc>
        <bottombc Sync="TRUE">1374835.500000</bottombc>
        <topbc Sync="TRUE">1384812.000000</topbc>
      </lboundng>
    </spdom>
    <natvform Sync="TRUE">Raster Dataset</natvform>
  </idinfo>
  <dataqual>
    <attracc>
      <attraccr>No report.</attraccr>
    </attracc>
    <logic>No report.</logic>
    <complete>Covers the Boise Valley project study area.</complete>
    <posacc>
      <horizpa>
        <horizpar>Data were geocorrected to USGS 1:24,000-scale DLGs. Checked the registration to USGS DLGs of the PLSS during processing.</horizpar>
      </horizpa>
    </posacc>
    <lineage>
      <srcinfo>
        <srccite>
          <citeinfo>
            <origin>USDA Soil Conservation Service </origin>
            <pubdate>1939</pubdate>
            <title>Aerial Photography of the Treasure Valley, Idaho</title>
            <geoform>remote-sensing image</geoform>
            <pubinfo>
              <pubplace>Washington, D.C.</pubplace>
              <publish>National Archive</publish>
            </pubinfo>
          </citeinfo>
        </srccite>
        <srcscale>20000</srcscale>
        <srctime>
          <timeinfo>
            <mdattim>
              <sngdate>
                <caldate>1938</caldate>
              </sngdate>
              <sngdate>
                <caldate>1939</caldate>
              </sngdate>
            </mdattim>
          </timeinfo>
          <srccurr>ground condition</srccurr>
        </srctime>
        <srccontr>1:20,000-scale aerial photography</srccontr>
        <typesrc>unknown</typesrc>
        <srccitea>AIRPHOTOS1939</srccitea>
      </srcinfo>
      <procstep>
        <procdesc>1. Bureau of Reclamation purchased 1:20,000-scale CIR airphotos from the National Archive.
2. Scanned airphotos at 400 dpi.
3. Sharpened scanned photos (images) using Photoshop.
4. Copied from PC to Workstation.
5. Geocorrected images using ARC/INFO CONTROLPOINTS program.  GCPs were taken from USGS DLGs of the PLSS that were quarter-quartered.
6. Warped using ARC/INFO GRIDWARP program: nearest neighbor resampling, 1.5m cell size, and a 15m buffer that forms a box around the control points.
7. Mosaicked using ARC/INFO MERGE function.
8. Contrast stretch with ARC/INFO RECLASS function.</procdesc>
        <procdate>Unknown</procdate>
        <srcused>AIRPHOTOS1939</srcused>
        <srcused>DLG</srcused>
      </procstep>
      <procstep>
        <procdesc>Projected from IDTM27 to IDTM83.</procdesc>
        <procdate>200310</procdate>
      </procstep>
      <srcinfo>
        <srccite>
          <citeinfo>
            <title>Digital Line Graphs (DLG)</title>
            <origin>U.S. Geological Survey</origin>
            <pubdate>Unknown</pubdate>
            <geoform>vector digital data</geoform>
            <pubinfo>
              <pubplace>Sioux Falls, SD USA</pubplace>
              <publish>U.S. Geological Survey</publish>
            </pubinfo>
          </citeinfo>
        </srccite>
        <typesrc>unknown</typesrc>
        <srccitea>DLG</srccitea>
        <srccontr>Digital line graph (DLG) data are digital representations of cartographic information.  The 1:24,000-scale DLG's were used for contol points.</srccontr>
        <srctime>
          <timeinfo>
            <sngdate>
              <caldate>unknown</caldate>
            </sngdate>
          </timeinfo>
          <srccurr>publication date</srccurr>
        </srctime>
        <srcscale>24000</srcscale>
      </srcinfo>
    </lineage>
  </dataqual>
  <metainfo>
    <metd>20030722</metd>
    <metc>
      <cntinfo>
        <cntpos>Senior Remote Sensing Analyst</cntpos>
        <cntaddr>
          <addrtype>mailing address</addrtype>
          <address>322 East Front St.</address>
          <city>Boise</city>
          <state>Idaho</state>
          <postal>83720-0098</postal>
          <country>USA</country>
        </cntaddr>
        <cntvoice>208.287.4878</cntvoice>
        <cntemail>Bill.Kramber@idwr.idaho.gov</cntemail>
        <cntorgp>
          <cntorg>Idaho Department of Water Resources</cntorg>
          <cntper>Bill Kramber</cntper>
        </cntorgp>
      </cntinfo>
    </metc>
    <metstdn>FGDC Content Standards for Digital Geospatial Metadata</metstdn>
    <metstdv>FGDC-STD-001-1998</metstdv>
    <mettc>local time</mettc>
    <metrd>20050615</metrd>
    <langmeta Sync="TRUE">en</langmeta>
    <metextns>
      <onlink Sync="TRUE">http://www.esri.com/metadata/esriprof80.html</onlink>
      <metprof Sync="TRUE">ESRI Metadata Profile</metprof>
    </metextns>
  </metainfo>
  <Esri>
    <ModDate>20100109</ModDate>
    <ModTime>21211900</ModTime>
    <MetaID>{C9AA902D-D33F-4B33-AD41-8202BA57404D}</MetaID>
    <CreaDate>20050705</CreaDate>
    <CreaTime>14483500</CreaTime>
    <SyncOnce>FALSE</SyncOnce>
    <SyncDate>20100109</SyncDate>
    <SyncTime>21211900</SyncTime>
    <DataProperties>
      <lineage>
        <Process ToolSource="C:\Program Files\ArcGIS\ArcToolbox\Toolboxes\Data Management Tools.tbx\BuildPyramids" Date="20050716" Time="131005">BuildPyramids D:\Users\Shared\data\IDWR\downdata\DAP\TreasureValley1939\dap1pt5m1939a_id08t0030n0020w_idwr.tif D:\Users\Shared\data\IDWR\downdata\DAP\TreasureValley1939\dap1pt5m1939a_id08t0030n0020w_idwr.tif</Process>
        <Process ToolSource="C:\Program Files\ArcGIS\ArcToolbox\Toolboxes\Data Management Tools.tbx\BuildPyramids" Date="20050716" Time="131243">BuildPyramids D:\Users\Shared\data\IDWR\downdata\DAP\TreasureValley1939\dap1pt5m1939a_id08t0030n0020w_idwr.tif D:\Users\Shared\data\IDWR\downdata\DAP\TreasureValley1939\dap1pt5m1939a_id08t0030n0020w_idwr.tif</Process>
        <Process Name="Define Projection" ToolSource="c:\program files (x86)\arcgis\desktop10.5\ArcToolbox\Toolboxes\Data Management Tools.tbx\DefineProjection" Date="20180421" Time="121915">DefineProjection "\\nknportal.nkn.uidaho.edu\publishedpre\bruce\aerial-imagery\historical_georectified_imagery_from_idwr\New folder\idwr_treasurevalley_1938_1939_1pt5m\dap1pt5m1939_id08t0030n0020w_idwr.tif" PROJCS['NAD_1983_Idaho_TM',GEOGCS['GCS_North_American_1983',DATUM['D_North_American_1983',SPHEROID['GRS_1980',6378137.0,298.257222101]],PRIMEM['Greenwich',0.0],UNIT['Degree',0.0174532925199433]],PROJECTION['Transverse_Mercator'],PARAMETER['False_Easting',2500000.0],PARAMETER['False_Northing',1200000.0],PARAMETER['Central_Meridian',-114.0],PARAMETER['Scale_Factor',0.9996],PARAMETER['Latitude_Of_Origin',42.0],UNIT['Meter',1.0]]</Process>
      </lineage>
    </DataProperties>
  </Esri>
  <mdDateSt Sync="TRUE">20050629</mdDateSt>
  <spdoinfo>
    <direct Sync="TRUE">Raster</direct>
    <rastinfo>
      <rasttype Sync="TRUE">Pixel</rasttype>
      <rowcount Sync="TRUE">6651</rowcount>
      <colcount Sync="TRUE">6648</colcount>
      <rastxsz Sync="TRUE">1.500000</rastxsz>
      <rastysz Sync="TRUE">1.500000</rastysz>
      <rastbpp Sync="TRUE">8</rastbpp>
      <vrtcount Sync="TRUE">1</vrtcount>
      <rastorig Sync="TRUE">Upper Left</rastorig>
      <rastcmap Sync="TRUE">FALSE</rastcmap>
      <rastcomp Sync="TRUE">PackBits</rastcomp>
      <rastband Sync="TRUE">1</rastband>
      <rastdtyp Sync="TRUE">pixel codes</rastdtyp>
      <rastplyr Sync="TRUE">TRUE</rastplyr>
      <rastifor Sync="TRUE">TIFF</rastifor>
    </rastinfo>
  </spdoinfo>
  <spref>
    <horizsys>
      <cordsysn>
        <geogcsn Sync="TRUE">GCS_North_American_1983</geogcsn>
        <projcsn Sync="TRUE">NAD_1983_Idaho_TM</projcsn>
      </cordsysn>
      <planar>
        <mapproj>
          <mapprojn Sync="TRUE">Transverse Mercator</mapprojn>
          <transmer>
            <sfctrmer Sync="TRUE">0.999600</sfctrmer>
            <longcm Sync="TRUE">-114.000000</longcm>
            <latprjo Sync="TRUE">42.000000</latprjo>
            <feast Sync="TRUE">2500000.000000</feast>
            <fnorth Sync="TRUE">1200000.000000</fnorth>
          </transmer>
        </mapproj>
        <planci>
          <plance Sync="TRUE">row and column</plance>
          <plandu Sync="TRUE">meters</plandu>
          <coordrep>
            <absres Sync="TRUE">1.500000</absres>
            <ordres Sync="TRUE">1.500000</ordres>
          </coordrep>
        </planci>
      </planar>
      <geodetic>
        <horizdn Sync="TRUE">North American Datum of 1983</horizdn>
        <ellips Sync="TRUE">Geodetic Reference System 80</ellips>
        <semiaxis Sync="TRUE">6378137.000000</semiaxis>
        <denflat Sync="TRUE">298.257222</denflat>
      </geodetic>
    </horizsys>
  </spref>
  <distinfo>
    <distrib>
      <cntinfo>
        <cntpos>GIS Librarian</cntpos>
        <cntaddr>
          <addrtype>mailing address</addrtype>
          <address>850 S Rayburn Street</address>
          <city>Moscow</city>
          <state>ID</state>
          <postal>83844-2350</postal>
          <country>USA</country>
        </cntaddr>
        <cntvoice>208.292.1407</cntvoice>
        <cntemail>bgodfrey@uidaho.edu</cntemail>
        <cntorgp>
          <cntorg>University of Idaho Library</cntorg>
          <cntper>Bruce Godfrey</cntper>
        </cntorgp>
      </cntinfo>
    </distrib>
    <distliab>Although these data have been processed successfully on a computer system at the University of Idaho Library, no warranty, expressed or implied, is made regarding the utility of the data on any other system, nor shall the act of distribution constitute any such warranty.</distliab>
  </distinfo>
</metadata>