<?xml version="1.0" encoding="ISO-8859-1"?>
<metadata>
  <idinfo>
    <citation>
      <citeinfo>
        <pubdate>20031030</pubdate>
        <title>Digital Aerial Image of Township 07 S., Range 43 E., Idaho</title>
        <pubinfo>
          <pubplace>Boise, ID USA</pubplace>
          <publish>Idaho Department of Water Resources</publish>
        </pubinfo>
        <origin>Sandy Egbert</origin>
        <geoform>remote-sensing image</geoform>
      </citeinfo>
    </citation>
    <descript>
      <abstract>An aerial photograph is a photograph of the earth's surface taken with a camera mounted in an airplane. The geographic extent of this scanned, georectified, and mosaiced 3.4-meter pixel resolution black and white digital aerial photograph is approximately all of or a portion of the Public Land Survey System (PLSS) Township 07 S., Range 43 E., Idaho. 

This data set is one tile in a collection of 14 tiles acquired by IDWR.  The collection includes some of Bingham and Caribou counties.

The 1:20,000-scale black and white aerial photography used in the production of this mosaiced image was flown by the Farm Service Administration.</abstract>
      <purpose>The images in this collection were used to assist in the determination of beneficial use claims during the Snake River Basin Adjudication. They are for use at 1:24,000 and smaller scales. No responsibility is assumed by the Idaho Department of Water Resources in the use of these data.</purpose>
      <langdata Sync="TRUE">en</langdata>
    </descript>
    <timeperd>
      <timeinfo>
        <sngdate>
          <caldate>1964</caldate>
        </sngdate>
      </timeinfo>
      <current>ground condition</current>
    </timeperd>
    <status>
      <progress>Complete</progress>
      <update>None planned.</update>
    </status>
    <keywords>
      <theme>
        <themekt>ISO 19115 Topic Category</themekt>
        <themekey>imageryBaseMapsEarthCover</themekey>
      </theme>
      <theme>
        <themekt>None</themekt>
        <themekey>panchromatic digital aerial photograph</themekey>
        <themekey>scanned digital air photo</themekey>
        <themekey>air photo</themekey>
        <themekey>aerial photography</themekey>
        <themekey>aerial photo</themekey>
        <themekey>rectified image</themekey>
        <themekey>rectified photograph</themekey>
        <themekey>georeferenced image</themekey>
        <themekey>geocorrected image</themekey>
      </theme>
      <place>
        <placekt>STATE FIPS PUB 6-4 two-letter alpha State code</placekt>
        <placekey>ID</placekey>
      </place>
      <place>
        <placekt>None</placekt>
        <placekey>Administrative Basin 27 Air Photo Project Area</placekey>
        <placekey>PM 08</placekey>
        <placekey>T07S</placekey>
        <placekey>R43E</placekey>
      </place>
    </keywords>
    <accconst>None</accconst>
    <useconst>None</useconst>
    <ptcontac>
      <cntinfo>
        <cntaddr>
          <addrtype>mailing address</addrtype>
          <address>322 East Front St.</address>
          <city>Boise</city>
          <state>Idaho</state>
          <postal>83720-0098</postal>
          <country>USA</country>
        </cntaddr>
        <cntvoice>208-327-4916</cntvoice>
        <cntemail>sandy.egbert@idwr.idaho.gov</cntemail>
        <cntorgp>
          <cntorg>Idaho Department of Water Resources</cntorg>
          <cntper>Sandy Egbert</cntper>
        </cntorgp>
      </cntinfo>
    </ptcontac>
    <native Sync="TRUE">Microsoft Windows 2000 Version 5.2 (Build 3790) Service Pack 2; ESRI ArcCatalog 9.3.1.3000</native>
    <spdom>
      <bounding>
        <westbc Sync="TRUE">-111.430828</westbc>
        <eastbc Sync="TRUE">-111.366179</eastbc>
        <northbc Sync="TRUE">42.796507</northbc>
        <southbc Sync="TRUE">42.761363</southbc>
      </bounding>
      <lboundng>
        <leftbc Sync="TRUE">2710218.276019</leftbc>
        <rightbc Sync="TRUE">2715396.476164</rightbc>
        <bottombc Sync="TRUE">1287899.636124</bottombc>
        <topbc Sync="TRUE">1291646.436230</topbc>
      </lboundng>
    </spdom>
    <natvform Sync="TRUE">Raster Dataset</natvform>
  </idinfo>
  <dataqual>
    <attracc>
      <attraccr>No report.</attraccr>
    </attracc>
    <logic>No report.</logic>
    <posacc>
      <horizpa>
        <horizpar>Approximately 13 meters.</horizpar>
      </horizpa>
    </posacc>
    <lineage>
      <srcinfo>
        <srccite>
          <citeinfo>
            <origin>Farm Service Administration</origin>
            <pubdate>Unpublished Material</pubdate>
            <title>Airphotos of Administrative Basin 27 Idaho</title>
          </citeinfo>
        </srccite>
        <srctime>
          <timeinfo>
            <sngdate>
              <caldate>1966</caldate>
            </sngdate>
          </timeinfo>
          <srccurr>ground condition</srccurr>
        </srctime>
        <typesrc>photograph</typesrc>
        <srcscale>12000</srcscale>
        <srccitea>AIRPHOTOS64</srccitea>
        <srccontr>1:12000 aerial photography</srccontr>
      </srcinfo>
      <procstep>
        <procdesc>1. Scanned and registered hardcopy photos.
2. Scanned at 150 dpi.
3. Registrered primarily to 1:24000 USGS DRGs.
4. Mosaicked by township.
5. Output at 3.4 meter pixels.</procdesc>
        <srcused>AIRPHOTOS64</srcused>
        <procdate>2003</procdate>
        <srcused>DRG</srcused>
      </procstep>
      <srcinfo>
        <srcscale>24000</srcscale>
        <typesrc>digital map</typesrc>
        <srccitea>DRG</srccitea>
        <srccontr>Digital Raster Graphics (DRG) are scanned USGS topographic maps used for ground control point(GPC) reference.</srccontr>
        <srccite>
          <citeinfo>
            <title>Digital Raster Graphics</title>
            <origin>United States Geological Survey (USGS)</origin>
            <pubdate>Unknown</pubdate>
            <geoform>DRG</geoform>
          </citeinfo>
        </srccite>
        <srctime>
          <timeinfo>
            <sngdate>
              <caldate>unknown</caldate>
            </sngdate>
          </timeinfo>
          <srccurr>publication date</srccurr>
        </srctime>
      </srcinfo>
    </lineage>
    <complete>No report.</complete>
  </dataqual>
  <metainfo>
    <metd>20030722</metd>
    <metc>
      <cntinfo>
        <cntaddr>
          <addrtype>mailing address</addrtype>
          <address>322 East Front St.</address>
          <city>Boise</city>
          <state>Idaho</state>
          <postal>83720-0098</postal>
          <country>USA</country>
        </cntaddr>
        <cntvoice>208-327-4916</cntvoice>
        <cntorgp>
          <cntorg>Idaho Department of Water Resources</cntorg>
          <cntper>Sandy Egbert</cntper>
        </cntorgp>
        <cntemail>sandy.egbert@idwr.idaho.gov</cntemail>
      </cntinfo>
    </metc>
    <metstdn>FGDC Content Standards for Digital Geospatial Metadata</metstdn>
    <metstdv>FGDC-STD-001-1998</metstdv>
    <mettc>local time</mettc>
    <metrd>20050615</metrd>
    <langmeta Sync="TRUE">en</langmeta>
    <metextns>
      <onlink Sync="TRUE">http://www.esri.com/metadata/esriprof80.html</onlink>
      <metprof Sync="TRUE">ESRI Metadata Profile</metprof>
    </metextns>
  </metainfo>
  <Esri>
    <ModDate>20100218</ModDate>
    <ModTime>12070500</ModTime>
    <MetaID>{5AC614E2-51EF-43B2-AC88-E76F3B68F1B9}</MetaID>
    <CreaDate>20050726</CreaDate>
    <CreaTime>16180400</CreaTime>
    <SyncOnce>FALSE</SyncOnce>
    <SyncDate>20100218</SyncDate>
    <SyncTime>12070500</SyncTime>
    <DataProperties>
      <lineage>
        <Process ToolSource="c:\program files (x86)\arcgis\desktop10.5\ArcToolbox\Toolboxes\Data Management Tools.tbx\DefineProjection" Date="20180419" Time="120756">DefineProjection \\nknportal.rocket.net\publishedpre\cf8a2491-56dd-4f5e-a626-92397b19044a\26941813-efa0-4f5c-9076-711f9e0bf46a\t07s43e.tif PROJCS['NAD_1983_Idaho_TM',GEOGCS['GCS_North_American_1983',DATUM['D_North_American_1983',SPHEROID['GRS_1980',6378137.0,298.257222101]],PRIMEM['Greenwich',0.0],UNIT['Degree',0.0174532925199433]],PROJECTION['Transverse_Mercator'],PARAMETER['False_Easting',2500000.0],PARAMETER['False_Northing',1200000.0],PARAMETER['Central_Meridian',-114.0],PARAMETER['Scale_Factor',0.9996],PARAMETER['Latitude_Of_Origin',42.0],UNIT['Meter',1.0]]</Process>
      </lineage>
    </DataProperties>
  </Esri>
  <mdDateSt Sync="TRUE">20050629</mdDateSt>
  <spdoinfo>
    <direct Sync="TRUE">Raster</direct>
    <rastinfo>
      <rasttype Sync="TRUE">Pixel</rasttype>
      <rowcount Sync="TRUE">1102</rowcount>
      <colcount Sync="TRUE">1523</colcount>
      <rastxsz Sync="TRUE">3.400000</rastxsz>
      <rastysz Sync="TRUE">3.400000</rastysz>
      <rastbpp Sync="TRUE">8</rastbpp>
      <vrtcount Sync="TRUE">1</vrtcount>
      <rastorig Sync="TRUE">Upper Left</rastorig>
      <rastcmap Sync="TRUE">FALSE</rastcmap>
      <rastcomp Sync="TRUE">None</rastcomp>
      <rastband Sync="TRUE">3</rastband>
      <rastdtyp Sync="TRUE">pixel codes</rastdtyp>
      <rastplyr Sync="TRUE">TRUE</rastplyr>
      <rastifor Sync="TRUE">TIFF</rastifor>
    </rastinfo>
  </spdoinfo>
  <eainfo>
    <detailed Name="dap3.4m1964_id08t0070s0430e_idwr.tif.vat">
      <enttyp>
        <enttypl Sync="TRUE">dap3.4m1964_id08t0070s0430e_idwr.tif.vat</enttypl>
        <enttypt Sync="TRUE">Table</enttypt>
        <enttypc Sync="TRUE">220</enttypc>
        <enttypd>Digital values of the 24-bit image</enttypd>
        <enttypds>none</enttypds>
      </enttyp>
      <attr>
        <attrlabl Sync="TRUE">ObjectID</attrlabl>
        <attalias Sync="TRUE">ObjectID</attalias>
        <attrtype Sync="TRUE">OID</attrtype>
        <attwidth Sync="TRUE">4</attwidth>
        <atprecis Sync="TRUE">0</atprecis>
        <attscale Sync="TRUE">0</attscale>
        <attrdef Sync="TRUE">Internal feature number.</attrdef>
        <attrdefs Sync="TRUE">ESRI</attrdefs>
        <attrdomv>
          <udom Sync="TRUE">Sequential unique whole numbers that are automatically generated.</udom>
        </attrdomv>
      </attr>
      <attr>
        <attrlabl Sync="TRUE">Value</attrlabl>
        <attalias Sync="TRUE">Value</attalias>
        <attrtype Sync="TRUE">Integer</attrtype>
        <attwidth Sync="TRUE">0</attwidth>
        <atprecis Sync="TRUE">0</atprecis>
        <attscale Sync="TRUE">0</attscale>
        <attrdef>Digital number</attrdef>
        <attrdefs>none</attrdefs>
        <attrdomv>
          <rdom>
            <rdommin>33</rdommin>
            <rdommax>255</rdommax>
            <rdommean>145.468181818182</rdommean>
            <rdomstdv>63.7079802343283</rdomstdv>
          </rdom>
        </attrdomv>
      </attr>
      <attr>
        <attrlabl Sync="TRUE">Count</attrlabl>
        <attalias Sync="TRUE">Count</attalias>
        <attrtype Sync="TRUE">Double</attrtype>
        <attwidth Sync="TRUE">0</attwidth>
        <atprecis Sync="TRUE">0</atprecis>
        <attscale Sync="TRUE">0</attscale>
        <attrdef>Number of cells in the raster with the same value</attrdef>
        <attrdefs>none</attrdefs>
        <attrdomv>
          <rdom>
            <rdommin>1</rdommin>
            <rdommax>117322</rdommax>
            <rdommean>7628.84545454545</rdommean>
            <rdomstdv>9874.25479131307</rdomstdv>
          </rdom>
        </attrdomv>
      </attr>
    </detailed>
    <detailed Name="dap3.4m1964_id08t0070s0430e_idwr.tif.vat">
      <enttyp>
        <enttypl Sync="TRUE">dap3.4m1964_id08t0070s0430e_idwr.tif.vat</enttypl>
        <enttypt Sync="TRUE">Table</enttypt>
        <enttypc Sync="TRUE">220</enttypc>
        <enttypd>Digital values of the 24-bit image</enttypd>
        <enttypds>none</enttypds>
      </enttyp>
      <attr>
        <attrlabl Sync="TRUE">ObjectID</attrlabl>
        <attalias Sync="TRUE">ObjectID</attalias>
        <attrtype Sync="TRUE">OID</attrtype>
        <attwidth Sync="TRUE">4</attwidth>
        <atprecis Sync="TRUE">0</atprecis>
        <attscale Sync="TRUE">0</attscale>
        <attrdef Sync="TRUE">Internal feature number.</attrdef>
        <attrdefs Sync="TRUE">ESRI</attrdefs>
        <attrdomv>
          <udom Sync="TRUE">Sequential unique whole numbers that are automatically generated.</udom>
        </attrdomv>
      </attr>
      <attr>
        <attrlabl Sync="TRUE">Value</attrlabl>
        <attalias Sync="TRUE">Value</attalias>
        <attrtype Sync="TRUE">Integer</attrtype>
        <attwidth Sync="TRUE">0</attwidth>
        <atprecis Sync="TRUE">0</atprecis>
        <attscale Sync="TRUE">0</attscale>
        <attrdef>Digital number</attrdef>
        <attrdefs>none</attrdefs>
        <attrdomv>
          <rdom>
            <rdommin>33</rdommin>
            <rdommax>255</rdommax>
            <rdommean>145.468181818182</rdommean>
            <rdomstdv>63.7079802343283</rdomstdv>
          </rdom>
        </attrdomv>
      </attr>
      <attr>
        <attrlabl Sync="TRUE">Count</attrlabl>
        <attalias Sync="TRUE">Count</attalias>
        <attrtype Sync="TRUE">Double</attrtype>
        <attwidth Sync="TRUE">0</attwidth>
        <atprecis Sync="TRUE">0</atprecis>
        <attscale Sync="TRUE">0</attscale>
        <attrdef>Number of cells in the raster with the same value</attrdef>
        <attrdefs>none</attrdefs>
        <attrdomv>
          <rdom>
            <rdommin>1</rdommin>
            <rdommax>117322</rdommax>
            <rdommean>7628.84545454545</rdommean>
            <rdomstdv>9874.25479131307</rdomstdv>
          </rdom>
        </attrdomv>
      </attr>
    </detailed>
    <detailed Name="dap3.4m1964_id08t0070s0430e_idwr.tif.vat">
      <enttyp>
        <enttypl Sync="TRUE">dap3.4m1964_id08t0070s0430e_idwr.tif.vat</enttypl>
        <enttypt Sync="TRUE">Table</enttypt>
        <enttypc Sync="TRUE">220</enttypc>
        <enttypd>Digital values of the 24-bit image</enttypd>
        <enttypds>none</enttypds>
      </enttyp>
      <attr>
        <attrlabl Sync="TRUE">ObjectID</attrlabl>
        <attalias Sync="TRUE">ObjectID</attalias>
        <attrtype Sync="TRUE">OID</attrtype>
        <attwidth Sync="TRUE">4</attwidth>
        <atprecis Sync="TRUE">0</atprecis>
        <attscale Sync="TRUE">0</attscale>
        <attrdef Sync="TRUE">Internal feature number.</attrdef>
        <attrdefs Sync="TRUE">ESRI</attrdefs>
        <attrdomv>
          <udom Sync="TRUE">Sequential unique whole numbers that are automatically generated.</udom>
        </attrdomv>
      </attr>
      <attr>
        <attrlabl Sync="TRUE">Value</attrlabl>
        <attalias Sync="TRUE">Value</attalias>
        <attrtype Sync="TRUE">Integer</attrtype>
        <attwidth Sync="TRUE">0</attwidth>
        <atprecis Sync="TRUE">0</atprecis>
        <attscale Sync="TRUE">0</attscale>
        <attrdef>Digital number</attrdef>
        <attrdefs>none</attrdefs>
        <attrdomv>
          <rdom>
            <rdommin>33</rdommin>
            <rdommax>255</rdommax>
            <rdommean>145.468181818182</rdommean>
            <rdomstdv>63.7079802343283</rdomstdv>
          </rdom>
        </attrdomv>
      </attr>
      <attr>
        <attrlabl Sync="TRUE">Count</attrlabl>
        <attalias Sync="TRUE">Count</attalias>
        <attrtype Sync="TRUE">Double</attrtype>
        <attwidth Sync="TRUE">0</attwidth>
        <atprecis Sync="TRUE">0</atprecis>
        <attscale Sync="TRUE">0</attscale>
        <attrdef>Number of cells in the raster with the same value</attrdef>
        <attrdefs>none</attrdefs>
        <attrdomv>
          <rdom>
            <rdommin>1</rdommin>
            <rdommax>117322</rdommax>
            <rdommean>7628.84545454545</rdommean>
            <rdomstdv>9874.25479131307</rdomstdv>
          </rdom>
        </attrdomv>
      </attr>
    </detailed>
  </eainfo>
  <spref>
    <horizsys>
      <cordsysn>
        <geogcsn Sync="TRUE">GCS_North_American_1983</geogcsn>
        <projcsn Sync="TRUE">NAD_1983_Idaho_TM</projcsn>
      </cordsysn>
      <planar>
        <planci>
          <plance Sync="TRUE">row and column</plance>
          <plandu Sync="TRUE">meters</plandu>
          <coordrep>
            <absres Sync="TRUE">3.400000</absres>
            <ordres Sync="TRUE">3.400000</ordres>
          </coordrep>
        </planci>
        <mapproj>
          <mapprojn Sync="TRUE">Transverse Mercator</mapprojn>
          <transmer>
            <sfctrmer Sync="TRUE">0.999600</sfctrmer>
            <longcm Sync="TRUE">-114.000000</longcm>
            <latprjo Sync="TRUE">42.000000</latprjo>
            <feast Sync="TRUE">2500000.000000</feast>
            <fnorth Sync="TRUE">1200000.000000</fnorth>
          </transmer>
        </mapproj>
      </planar>
      <geodetic>
        <horizdn Sync="TRUE">North American Datum of 1983</horizdn>
        <ellips Sync="TRUE">Geodetic Reference System 80</ellips>
        <semiaxis Sync="TRUE">6378137.000000</semiaxis>
        <denflat Sync="TRUE">298.257222</denflat>
      </geodetic>
    </horizsys>
  </spref>
  <distinfo>
    <distrib>
      <cntinfo>
        <cntpos>GIS Librarian</cntpos>
        <cntaddr>
          <addrtype>mailing address</addrtype>
          <address>850 S Rayburn Street</address>
          <city>Moscow</city>
          <state>ID</state>
          <postal>83844-2350</postal>
          <country>USA</country>
        </cntaddr>
        <cntvoice>208.292.1407</cntvoice>
        <cntemail>bgodfrey@uidaho.edu</cntemail>
        <cntorgp>
          <cntorg>University of Idaho Library</cntorg>
          <cntper>Bruce Godfrey</cntper>
        </cntorgp>
      </cntinfo>
    </distrib>
    <distliab>Although these data have been processed successfully on a computer system at the University of Idaho Library, no warranty, expressed or implied, is made regarding the utility of the data on any other system, nor shall the act of distribution constitute any such warranty.</distliab>
  </distinfo>
</metadata>