<metadata xml:lang="en"><Esri><CreaDate>20190117</CreaDate><CreaTime>11113900</CreaTime><ArcGISFormat>1.0</ArcGISFormat><ArcGISstyle>ISO 19139 Metadata Implementation Specification</ArcGISstyle><SyncOnce>FALSE</SyncOnce><DataProperties><itemProps><itemName Sync="TRUE">Mos_2018_F_06.tif</itemName><itemLocation><linkage Sync="TRUE">file://\\nknportal.rocket.net\publishedpre\bruce\aerial-imagery\moscow_2018\data\Mos_2018_F_06.tif</linkage><protocol Sync="TRUE">Local Area Network</protocol></itemLocation><imsContentType Sync="TRUE">002</imsContentType><nativeExtBox><westBL Sync="TRUE">2314650.000000</westBL><eastBL Sync="TRUE">2317650.000000</eastBL><southBL Sync="TRUE">1843600.000000</southBL><northBL Sync="TRUE">1846600.000000</northBL><exTypeCode Sync="TRUE">1</exTypeCode></nativeExtBox></itemProps><RasterProperties><General><PixelDepth Sync="TRUE">8</PixelDepth><HasColormap Sync="TRUE">FALSE</HasColormap><CompressionType Sync="TRUE">None</CompressionType><NumBands Sync="TRUE">3</NumBands><Format Sync="TRUE">TIFF</Format><HasPyramids Sync="TRUE">TRUE</HasPyramids><SourceType Sync="TRUE">continuous</SourceType><PixelType Sync="TRUE">unsigned integer</PixelType><NoDataValue Sync="TRUE"></NoDataValue></General></RasterProperties><lineage><Process Name="Define Projection" ToolSource="c:\program files (x86)\arcgis\desktop10.6\ArcToolbox\Toolboxes\Data Management Tools.tbx\DefineProjection" Date="20190117" Time="125653">DefineProjection \\nknportal.rocket.net\publishedpre\bruce\aerial-imagery\moscow_2018\data\Mos_2018_F_06.tif PROJCS['NAD_1983_Idaho_TM',GEOGCS['GCS_North_American_1983',DATUM['D_North_American_1983',SPHEROID['GRS_1980',6378137.0,298.257222101]],PRIMEM['Greenwich',0.0],UNIT['Degree',0.0174532925199433]],PROJECTION['Transverse_Mercator'],PARAMETER['False_Easting',2500000.0],PARAMETER['False_Northing',1200000.0],PARAMETER['Central_Meridian',-114.0],PARAMETER['Scale_Factor',0.9996],PARAMETER['Latitude_Of_Origin',42.0],UNIT['Meter',1.0]]</Process><Process Name="Define Projection" ToolSource="c:\program files (x86)\arcgis\desktop10.6\ArcToolbox\Toolboxes\Data Management Tools.tbx\DefineProjection" Date="20190117" Time="134900">DefineProjection \\nknportal.rocket.net\publishedpre\bruce\aerial-imagery\moscow_2018\data\Mos_2018_F_06.tif PROJCS['NAD_1983_2011_StatePlane_Idaho_West_FIPS_1103_Ft_US',GEOGCS['GCS_NAD_1983_2011',DATUM['D_NAD_1983_2011',SPHEROID['GRS_1980',6378137.0,298.257222101]],PRIMEM['Greenwich',0.0],UNIT['Degree',0.0174532925199433]],PROJECTION['Transverse_Mercator'],PARAMETER['False_Easting',2624666.666666666],PARAMETER['False_Northing',0.0],PARAMETER['Central_Meridian',-115.75],PARAMETER['Scale_Factor',0.9999333333333333],PARAMETER['Latitude_Of_Origin',41.66666666666666],UNIT['Foot_US',0.3048006096012192]]</Process></lineage><coordRef><type Sync="TRUE">Projected</type><geogcsn Sync="TRUE">GCS_NAD_1983_2011</geogcsn><csUnits Sync="TRUE">Linear Unit: Foot_US (0.304801)</csUnits><projcsn Sync="TRUE">NAD_1983_2011_StatePlane_Idaho_West_FIPS_1103_Ft_US</projcsn><peXml Sync="TRUE">&lt;ProjectedCoordinateSystem xsi:type='typens:ProjectedCoordinateSystem' xmlns:xsi='http://www.w3.org/2001/XMLSchema-instance' xmlns:xs='http://www.w3.org/2001/XMLSchema' xmlns:typens='http://www.esri.com/schemas/ArcGIS/10.6'&gt;&lt;WKT&gt;PROJCS[&amp;quot;NAD_1983_2011_StatePlane_Idaho_West_FIPS_1103_Ft_US&amp;quot;,GEOGCS[&amp;quot;GCS_NAD_1983_2011&amp;quot;,DATUM[&amp;quot;D_NAD_1983_2011&amp;quot;,SPHEROID[&amp;quot;GRS_1980&amp;quot;,6378137.0,298.257222101]],PRIMEM[&amp;quot;Greenwich&amp;quot;,0.0],UNIT[&amp;quot;Degree&amp;quot;,0.0174532925199433]],PROJECTION[&amp;quot;Transverse_Mercator&amp;quot;],PARAMETER[&amp;quot;False_Easting&amp;quot;,2624666.666666666],PARAMETER[&amp;quot;False_Northing&amp;quot;,0.0],PARAMETER[&amp;quot;Central_Meridian&amp;quot;,-115.75],PARAMETER[&amp;quot;Scale_Factor&amp;quot;,0.9999333333333333],PARAMETER[&amp;quot;Latitude_Of_Origin&amp;quot;,41.66666666666666],UNIT[&amp;quot;Foot_US&amp;quot;,0.3048006096012192],AUTHORITY[&amp;quot;EPSG&amp;quot;,6453]]&lt;/WKT&gt;&lt;XOrigin&gt;-15822600&lt;/XOrigin&gt;&lt;YOrigin&gt;-47951700&lt;/YOrigin&gt;&lt;XYScale&gt;137250677.77723414&lt;/XYScale&gt;&lt;ZOrigin&gt;-100000&lt;/ZOrigin&gt;&lt;ZScale&gt;10000&lt;/ZScale&gt;&lt;MOrigin&gt;-100000&lt;/MOrigin&gt;&lt;MScale&gt;10000&lt;/MScale&gt;&lt;XYTolerance&gt;0.0032808333333333331&lt;/XYTolerance&gt;&lt;ZTolerance&gt;0.001&lt;/ZTolerance&gt;&lt;MTolerance&gt;0.001&lt;/MTolerance&gt;&lt;HighPrecision&gt;true&lt;/HighPrecision&gt;&lt;WKID&gt;103034&lt;/WKID&gt;&lt;LatestWKID&gt;6453&lt;/LatestWKID&gt;&lt;/ProjectedCoordinateSystem&gt;</peXml></coordRef></DataProperties><SyncDate>20190117</SyncDate><SyncTime>14040000</SyncTime><ModDate>20190117</ModDate><ModTime>14040000</ModTime></Esri><dataIdInfo><envirDesc Sync="TRUE">Microsoft Windows Server 2008 R2 Version 6.1 (Build 7601) Service Pack 1; Esri ArcGIS 10.6.0.8321</envirDesc><dataLang><languageCode value="eng" Sync="TRUE"></languageCode><countryCode value="USA" Sync="TRUE"></countryCode></dataLang><spatRpType><SpatRepTypCd value="002" Sync="TRUE"></SpatRepTypCd></spatRpType><dataExt><geoEle><GeoBndBox esriExtentType="search"><exTypeCode Sync="TRUE">1</exTypeCode><westBL Sync="TRUE">-116.986193</westBL><eastBL Sync="TRUE">-116.974047</eastBL><northBL Sync="TRUE">46.725828</northBL><southBL Sync="TRUE">46.717476</southBL></GeoBndBox></geoEle></dataExt><idCitation><resTitle>Moscow, Idaho: Aerial Mapping 2018</resTitle><date><pubDate>2018-07-30</pubDate></date><citRespParty><rpOrgName>Access Geographic, LLC, on behalf of Moscow, Idaho</rpOrgName><role><RoleCd value="006"/></role></citRespParty><citRespParty><rpOrgName>Moscow, ID</rpOrgName><rpCntInfo><cntAddress><delPoint>Moscow, ID</delPoint></cntAddress></rpCntInfo><role><RoleCd value="010"/></role></citRespParty><presForm><PresFormCd value="005"/></presForm><presForm><fgdcGeoform>raster digital data</fgdcGeoform></presForm></idCitation><idAbs>&lt;DIV STYLE="text-align:Left;"&gt;&lt;DIV&gt;&lt;P&gt;&lt;SPAN&gt;This geospatial dataset was created for the City of Moscow, Idaho as a seamless 3-inch pixel resolution orthorectified aerial imagery and topographic dataset covering approximately 25 square miles of the city and environs. Topographic data extraction includes 1-foot interval contour mapping in both NAVD88 and NGVD29 (adjusted at -~3.60' relative to NAVD88). An UltraCamX Digital Camera System was used to collect the project area on April 19th, with a 60 percent forward / 30 percent side overlap. Native projection is Idaho West State Plane, NAD83(2011), NAVD88 with units in US Survey Feet. Control for the project was provided by the City of Moscow and an original surface extraction was generated. The orthophotography content was processed as 24-bit RGB.&lt;/SPAN&gt;&lt;/P&gt;&lt;/DIV&gt;&lt;/DIV&gt;</idAbs><idPurp>This dataset was created as a geospatial visualization and planning tool for Moscow, Idaho.</idPurp><idCredit>This dataset was created for the City of Moscow, Idaho by Access Geographic, LLC, Tempe, Arizona in conjunction with Zennacle Geospatial and Peregrine Aerial Surveys</idCredit><idStatus><ProgCd value="001"/></idStatus><placeKeys xmlns=""><keyword>University of Idaho</keyword><keyword>United States</keyword><keyword>Idaho [State]</keyword><keyword>Moscow [City]</keyword><keyword>State Route 8</keyword><keyword>Latah [County]</keyword><keyword>US Highway 95</keyword></placeKeys><stratKeys xmlns=""><keyword>landscape</keyword><keyword>terrain</keyword></stratKeys><tempKeys xmlns=""><keyword>Leaf-off</keyword><keyword>2018</keyword><keyword>April</keyword><keyword>Winter</keyword></tempKeys><themeKeys xmlns=""><keyword>Contours</keyword><keyword>Planimetric</keyword><keyword>Natural Color</keyword><keyword>Digital</keyword><keyword>Aerial Photography</keyword><keyword>Topographic</keyword><keyword>Aerial Imagery</keyword><keyword>Orthophotography</keyword><keyword>Orthorectified</keyword><keyword>3-inch</keyword><keyword>3-Band</keyword></themeKeys><searchKeys><keyword>University of Idaho</keyword><keyword>Leaf-off</keyword><keyword>Contours</keyword><keyword>2018</keyword><keyword>United States</keyword><keyword>Idaho [State]</keyword><keyword>Moscow [City]</keyword><keyword>State Route 8</keyword><keyword>Planimetric</keyword><keyword>Natural Color</keyword><keyword>Digital</keyword><keyword>March</keyword><keyword>landscape</keyword><keyword>terrain</keyword><keyword>Aerial Photography</keyword><keyword>Latah [County]</keyword><keyword>Topographic</keyword><keyword>US Highway 95</keyword><keyword>Aerial Imagery</keyword><keyword>Orthophotography</keyword><keyword>Winter</keyword><keyword>Orthorectified</keyword><keyword>3-inch</keyword><keyword>3-Band</keyword></searchKeys><idPoC><rpIndName>Carey Edward</rpIndName><rpOrgName>City of Moscow, Idaho</rpOrgName><rpCntInfo><cntPhone><voiceNum>(208) 883-7000</voiceNum></cntPhone><cntAddress addressType="postal"><delPoint>221 East Second Street</delPoint><city>Moscow</city><adminArea>Idaho</adminArea><postCode>83843</postCode></cntAddress></rpCntInfo><role><RoleCd value="007"/></role></idPoC><tpCat><TopicCatCd value="010"/></tpCat><resConst><LegConsts><useLimit>The distributor invokes its sovereign and governmental immunity in allowing access to or use of this data, makes no warranties as to validity, and assumes no liability associated with the use or misuse of this information.</useLimit><othConsts>Contact the City of Moscow, Idaho</othConsts></LegConsts></resConst><resConst><Consts><useLimit>&lt;DIV STYLE="text-align:Left;"&gt;&lt;DIV&gt;&lt;DIV&gt;&lt;P&gt;&lt;SPAN&gt;Contact the City of Moscow, Idaho&lt;/SPAN&gt;&lt;/P&gt;&lt;/DIV&gt;&lt;/DIV&gt;&lt;/DIV&gt;</useLimit></Consts></resConst><resMaint xmlns=""><maintFreq><MaintFreqCd value="011"/></maintFreq></resMaint></dataIdInfo><mdLang><languageCode value="eng" Sync="TRUE"></languageCode><countryCode value="USA" Sync="TRUE"></countryCode></mdLang><mdChar><CharSetCd value="004" Sync="TRUE"></CharSetCd></mdChar><mdHrLv><ScopeCd value="005" Sync="TRUE"></ScopeCd></mdHrLv><mdHrLvName Sync="TRUE">dataset</mdHrLvName><spatRepInfo><Georect><cellGeo><CellGeoCd Sync="TRUE" value="002"></CellGeoCd></cellGeo><numDims Sync="TRUE">2</numDims><tranParaAv Sync="TRUE">1</tranParaAv><chkPtAv Sync="TRUE">0</chkPtAv><cornerPts><pos Sync="TRUE">2314650.000000 1843600.000000</pos></cornerPts><cornerPts><pos Sync="TRUE">2314650.000000 1846600.000000</pos></cornerPts><cornerPts><pos Sync="TRUE">2317650.000000 1846600.000000</pos></cornerPts><cornerPts><pos Sync="TRUE">2317650.000000 1843600.000000</pos></cornerPts><centerPt><pos Sync="TRUE">2316150.000000 1845100.000000</pos></centerPt><axisDimension type="002"><dimSize Sync="TRUE">12000</dimSize><dimResol><value Sync="TRUE" uom="ftUS">0.250000</value></dimResol></axisDimension><axisDimension type="001"><dimSize Sync="TRUE">12000</dimSize><dimResol><value Sync="TRUE" uom="ftUS">0.250000</value></dimResol></axisDimension><ptInPixel><PixOrientCd Sync="TRUE" value="001"></PixOrientCd></ptInPixel></Georect></spatRepInfo><contInfo><ImgDesc><contentTyp><ContentTypCd Sync="TRUE" value="001"></ContentTypCd></contentTyp><covDim><Band><dimDescrp Sync="TRUE">Band_1</dimDescrp><maxVal Sync="TRUE">255.000000</maxVal><minVal Sync="TRUE">0.000000</minVal><bitsPerVal Sync="TRUE">8</bitsPerVal><valUnit><UOM type="length"></UOM></valUnit></Band><Band><dimDescrp Sync="TRUE">Band_2</dimDescrp><maxVal Sync="TRUE">255.000000</maxVal><minVal Sync="TRUE">0.000000</minVal><bitsPerVal Sync="TRUE">8</bitsPerVal><valUnit><UOM type="length"></UOM></valUnit></Band><Band><dimDescrp Sync="TRUE">Band_3</dimDescrp><maxVal Sync="TRUE">255.000000</maxVal><minVal Sync="TRUE">0.000000</minVal><bitsPerVal Sync="TRUE">8</bitsPerVal><valUnit><UOM type="length"></UOM></valUnit></Band></covDim></ImgDesc></contInfo><mdDateSt Sync="TRUE">20190117</mdDateSt><refSysInfo><RefSystem><refSysID><identCode code="6453" Sync="TRUE"></identCode><idCodeSpace Sync="TRUE">EPSG</idCodeSpace><idVersion Sync="TRUE">8.9.3(10.3.1)</idVersion></refSysID></RefSystem></refSysInfo><mdContact><rpIndName>Robert C, Moore</rpIndName><rpOrgName>Access Geographic, LLC</rpOrgName><rpCntInfo><cntPhone><voiceNum>(480) 709-2710</voiceNum></cntPhone><cntAddress addressType="physical"><city>Tempe</city><adminArea>AZ</adminArea><postCode>85282</postCode><eMailAdd>rmoore@accessgeographic.com</eMailAdd></cntAddress></rpCntInfo><role><RoleCd value="007"/></role></mdContact><dqInfo><dqScope><scpLvl><ScopeCd value="005"/></scpLvl></dqScope><report type="DQConcConsis"><measDesc>The referenced source imagery utilized an original digital surface model supported by surveyed ground control and airborne GPS and IMU data. Quality Control procedures included manual assessments of automated results and visual association during the production process.</measDesc></report><report type="DQCompOm"><measDesc>Quality Control procedures included manual assessments of automated results and visual assessments during the production process.</measDesc></report><report type="DQQuanAttAcc"><measDesc>Accuracy of both airborne GPS and surveyed ground control are evaluated through the bundle adjustment. Digital acquisition frames are visually assessed for any abnormalities in color and quality. A 'blunder detection' phase is utilized during the AT process to ensure comprehensive tolerance. Quality control for the surface model includes a comprehensive quantitative analysis, a independent spot assessment, and a final qualitative analysis in completed with a visual review.</measDesc></report><report type="DQAbsExtPosAcc" dimension="horizontal"><measDesc>The AT adjustment process positively identifies any point that is out of tolerance with other values in the block. Out of tolerance points are promptly identified due to a survey error, a point coding error or a measurement error. These errors are detected during the preliminary adjustments and corrected for the final adjustment.</measDesc></report><dataLineage><prcStep><stepDesc>UX acquisition frames were processed as Level 3 images using Vexcel UltraMap Software. Surveyed ground control and ABGPS control support the Aerial Triangulation process using Intergraph ISAT and Z/I software. An original surface model was generated. The digital orthorectified imagery was then generated based on this methodology and mosiaked as a seamless imagery coverage.</stepDesc><stepDateTm date="unknown"/><stepProc><rpIndName>Robert Moore</rpIndName><rpOrgName>Access Geographic, LLC</rpOrgName><rpCntInfo><cntPhone><voiceNum>(480) 709-2710</voiceNum></cntPhone><cntAddress addressType="postal"><delPoint>3116 S. Mill Ave., Ste 193</delPoint><city>Tempe</city><adminArea>AZ</adminArea><postCode>85282</postCode><eMailAdd>rmoore@accessgeographic.com</eMailAdd></cntAddress></rpCntInfo><role><RoleCd value="009"/></role></stepProc></prcStep></dataLineage></dqInfo><distInfo><distributor><distorCont><rpIndName>Carey Edwards</rpIndName><rpOrgName>City of Moscow, Idaho</rpOrgName><rpCntInfo><cntPhone><voiceNum>(208) 883-7000</voiceNum></cntPhone><cntAddress addressType="physical"><delPoint>221 East Second Street</delPoint><city>Moscow</city><adminArea>Idaho</adminArea><postCode>83843</postCode></cntAddress></rpCntInfo><role><RoleCd value="005"/></role></distorCont></distributor></distInfo><eainfo><overview xmlns=""><eaover>The orthorectified imagery product was released in uncompressed an TIFF/TFW format and compressed SID/SDW format. Topographic data was released in .dxf formatting.</eaover></overview></eainfo></metadata>
