<?xml version="1.0" encoding="ISO-8859-1"?>
<metadata>
  <idinfo>
    <citation>
      <citeinfo>
        <origin>Scott King</origin>
        <pubdate>2002</pubdate>
        <title>Digital Aerial Image of Township 15 S., Range 27 E., Idaho</title>
        <pubinfo>
          <pubplace>Boise, ID USA</pubplace>
          <publish>Idaho Department of Water Resources</publish>
        </pubinfo>
        <geoform Sync="TRUE">remote-sensing image</geoform>
      </citeinfo>
    </citation>
    <descript>
      <abstract>An aerial photograph is a photograph of the earth's surface taken with a camera mounted in an airplane. The geographic extent of this scanned, georectified, and mosaiced 3.5-meter pixel resolution black and white digital aerial photograph is approximately all of or a portion of the Public Land Survey System (PLSS) Township 15 S., Range 27 E., Idaho. 

This data set is one tile in a collection of 15 tiles acquired as part of the 1962 IDWR Administrative Basin 43 (Raft river area) Air Photo Project. The collection area includes parts of Cassia county around the Raft river.

The 1:20,000-scale black and white aerial photography used in the production of this mosaiced image was flown in 1962 by the Farm Service Administration.</abstract>
      <purpose>The images in this collection were used to assist in the determination of beneficial use claims during the Snake River Basin Adjudication. They are for use at 1:24,000 and smaller scales. No responsibility is assumed by the Idaho Department of Water Resources in the use of these data.</purpose>
      <langdata Sync="TRUE">en</langdata>
    </descript>
    <timeperd>
      <timeinfo>
        <sngdate>
          <caldate>1962</caldate>
        </sngdate>
      </timeinfo>
      <current>ground condition</current>
    </timeperd>
    <status>
      <progress>Complete</progress>
      <update>None planned.</update>
    </status>
    <keywords>
      <theme>
        <themekt>ISO 19115 Topic Category</themekt>
        <themekey>imageryBaseMapsEarthCover</themekey>
      </theme>
      <theme>
        <themekt>None</themekt>
        <themekey>panchromatic digital aerial photograph</themekey>
        <themekey>scanned digital air photo</themekey>
        <themekey>air photo</themekey>
        <themekey>aerial photography</themekey>
        <themekey>aerial photo</themekey>
        <themekey>rectified image</themekey>
        <themekey>rectified photograph</themekey>
        <themekey>georeferenced image</themekey>
        <themekey>geocorrected image</themekey>
      </theme>
      <place>
        <placekt>STATE FIPS PUB 6-4 two-letter alpha State code</placekt>
        <placekey>ID</placekey>
      </place>
      <place>
        <placekt>None</placekt>
        <placekey>IDWR Administrative Basin 43 Air Photo Project Area</placekey>
        <placekey>Raft River Air Photo Project Area</placekey>
        <placekey>PM 08</placekey>
        <placekey>T15S</placekey>
        <placekey>R27E</placekey>
      </place>
    </keywords>
    <accconst>None</accconst>
    <useconst>None</useconst>
    <ptcontac>
      <cntinfo>
        <cntaddr>
          <addrtype>mailing address</addrtype>
          <address>322 East Front St.</address>
          <city>Boise</city>
          <state>Idaho</state>
          <postal>83720-0098</postal>
          <country>USA</country>
        </cntaddr>
        <cntvoice>208.287.4915</cntvoice>
        <cntemail>Michael.Ciscell@idwr.idaho.gov</cntemail>
        <cntorgp>
          <cntorg>Idaho Department of Water Resources</cntorg>
          <cntper>Michael Ciscell</cntper>
        </cntorgp>
      </cntinfo>
    </ptcontac>
    <datacred>GIS staff at the Idaho Department of Water Resources in cooperation with the US Bureau of Reclamation.</datacred>
    <native Sync="TRUE">Microsoft Windows 2000 Version 5.2 (Build 3790) Service Pack 2; ESRI ArcCatalog 9.3.1.3000</native>
    <spdom>
      <bounding>
        <westbc Sync="TRUE">-113.357628</westbc>
        <eastbc Sync="TRUE">-113.234762</eastbc>
        <northbc Sync="TRUE">42.155617</northbc>
        <southbc Sync="TRUE">42.065006</southbc>
      </bounding>
      <lboundng>
        <leftbc Sync="TRUE">2553145.000000</leftbc>
        <rightbc Sync="TRUE">2563221.500000</rightbc>
        <bottombc Sync="TRUE">1207500.000000</bottombc>
        <topbc Sync="TRUE">1217478.500000</topbc>
      </lboundng>
    </spdom>
    <natvform Sync="TRUE">Raster Dataset</natvform>
  </idinfo>
  <dataqual>
    <attracc>
      <attraccr>No report.</attraccr>
    </attracc>
    <logic>No report.</logic>
    <complete>No report.</complete>
    <posacc>
      <horizpa>
        <horizpar>Approximately 13 meters. Data were registrered primarily to the BLM GCBDs mosaiced by township.</horizpar>
      </horizpa>
    </posacc>
    <lineage>
      <srcinfo>
        <srccite>
          <citeinfo>
            <origin>Farm Service Administration</origin>
            <pubdate>1962</pubdate>
            <geoform>remote-sensing image</geoform>
            <pubinfo>
              <pubplace>Salt Lake City, UT</pubplace>
              <publish>Aerial Photography Field Office</publish>
            </pubinfo>
            <title>Aerial Photography of Raft River, Idaho</title>
          </citeinfo>
        </srccite>
        <srcscale>20000</srcscale>
        <typesrc>unknown</typesrc>
        <srctime>
          <timeinfo>
            <sngdate>
              <caldate>1962</caldate>
            </sngdate>
          </timeinfo>
          <srccurr>ground condition</srccurr>
        </srctime>
        <srccitea>AIRPHOTOS62</srccitea>
        <srccontr>1:20000 9" x 9" black and white aerial photography</srccontr>
      </srcinfo>
      <procstep>
        <procdesc>1. Scanned and registered hardcopy photos. Scanned at 300 dpi. 
2. Registered primarily to GCDB. 
3. Mosaicked by township. 
4. Output at 3.5 meter pixels</procdesc>
        <procdate>2001</procdate>
        <proccont>
          <cntinfo>
            <cntaddr>
              <addrtype>mailing and physical address</addrtype>
              <address>Unknown -- out of business</address>
              <city>Boise</city>
              <state>ID</state>
              <postal>83701</postal>
              <country>USA</country>
            </cntaddr>
            <cntorgp>
              <cntorg>Eagle Mapping Inc.</cntorg>
              <cntper>Greg Carson</cntper>
            </cntorgp>
            <cntvoice>Unknown -- out of business</cntvoice>
          </cntinfo>
        </proccont>
        <srcused>GCDB</srcused>
      </procstep>
      <srcinfo>
        <srcscale>12000</srcscale>
        <typesrc>geodatabase</typesrc>
        <srccitea>GCDB</srccitea>
        <srccontr>The Geographic Coordinate Database (GCDB) is a collection of geographic information representing the Public Land Survey System (PLSS) of the United States.  Ground control points (GPCs) were taken from BLM GCDBs.</srccontr>
        <srccite>
          <citeinfo>
            <title>BLM Geographic Coordinate Database</title>
            <origin>Bureau of Land Management</origin>
            <pubdate>Unknown</pubdate>
            <geoform>geodatabase</geoform>
          </citeinfo>
        </srccite>
        <srctime>
          <timeinfo>
            <sngdate>
              <caldate>unknown</caldate>
            </sngdate>
          </timeinfo>
          <srccurr>publication date</srccurr>
        </srctime>
      </srcinfo>
    </lineage>
  </dataqual>
  <metainfo>
    <metd>20020208</metd>
    <metc>
      <cntinfo>
        <cntaddr>
          <addrtype>mailing address</addrtype>
          <address>322 East Front St.</address>
          <city>Boise</city>
          <state>Idaho</state>
          <postal>83720-0098</postal>
          <country>USA</country>
        </cntaddr>
        <cntvoice>208.287.4915</cntvoice>
        <cntorgp>
          <cntorg>Idaho Department of Water Resources</cntorg>
          <cntper>Michael Ciscell</cntper>
        </cntorgp>
        <cntemail>Michael.Ciscell@idwr.idaho.gov</cntemail>
      </cntinfo>
    </metc>
    <metstdn>FGDC Content Standards for Digital Geospatial Metadata</metstdn>
    <metstdv>FGDC-STD-001-1998</metstdv>
    <mettc>local time</mettc>
    <metrd>20050615</metrd>
    <langmeta Sync="TRUE">en</langmeta>
    <metextns>
      <onlink Sync="TRUE">http://www.esri.com/metadata/esriprof80.html</onlink>
      <metprof Sync="TRUE">ESRI Metadata Profile</metprof>
    </metextns>
  </metainfo>
  <Esri>
    <ModDate>20100109</ModDate>
    <ModTime>21281300</ModTime>
    <MetaID>{70538FB1-0965-41F7-96DA-B859593E8898}</MetaID>
    <CreaDate>20050714</CreaDate>
    <CreaTime>18060000</CreaTime>
    <SyncOnce>FALSE</SyncOnce>
    <SyncDate>20100109</SyncDate>
    <SyncTime>21281300</SyncTime>
    <DataProperties>
      <lineage>
        <Process Name="Define Projection" ToolSource="c:\program files (x86)\arcgis\desktop10.5\ArcToolbox\Toolboxes\Data Management Tools.tbx\DefineProjection" Date="20180420" Time="115015">DefineProjection \\nknportal.nkn.uidaho.edu\publishedpre\bruce\aerial-imagery\historical_georectified_imagery_from_idwr\1962_3pt5m_raftRiverArea\data\dap3pt5m1962_id08t0150s0270e_idwr.tif PROJCS['NAD_1983_Idaho_TM',GEOGCS['GCS_North_American_1983',DATUM['D_North_American_1983',SPHEROID['GRS_1980',6378137.0,298.257222101]],PRIMEM['Greenwich',0.0],UNIT['Degree',0.0174532925199433]],PROJECTION['Transverse_Mercator'],PARAMETER['False_Easting',2500000.0],PARAMETER['False_Northing',1200000.0],PARAMETER['Central_Meridian',-114.0],PARAMETER['Scale_Factor',0.9996],PARAMETER['Latitude_Of_Origin',42.0],UNIT['Meter',1.0]]</Process>
      </lineage>
    </DataProperties>
  </Esri>
  <mdDateSt Sync="TRUE">20050629</mdDateSt>
  <spdoinfo>
    <direct Sync="TRUE">Raster</direct>
    <rastinfo>
      <rasttype Sync="TRUE">Pixel</rasttype>
      <rowcount Sync="TRUE">2851</rowcount>
      <colcount Sync="TRUE">2879</colcount>
      <rastxsz Sync="TRUE">3.500000</rastxsz>
      <rastysz Sync="TRUE">3.500000</rastysz>
      <rastbpp Sync="TRUE">8</rastbpp>
      <vrtcount Sync="TRUE">1</vrtcount>
      <rastorig Sync="TRUE">Upper Left</rastorig>
      <rastcmap Sync="TRUE">FALSE</rastcmap>
      <rastcomp Sync="TRUE">None</rastcomp>
      <rastband Sync="TRUE">1</rastband>
      <rastdtyp Sync="TRUE">pixel codes</rastdtyp>
      <rastplyr Sync="TRUE">TRUE</rastplyr>
      <rastifor Sync="TRUE">TIFF</rastifor>
    </rastinfo>
  </spdoinfo>
  <spref>
    <horizsys>
      <cordsysn>
        <geogcsn Sync="TRUE">GCS_North_American_1983</geogcsn>
        <projcsn Sync="TRUE">NAD_1983_Idaho_TM</projcsn>
      </cordsysn>
      <planar>
        <mapproj>
          <mapprojn Sync="TRUE">Transverse Mercator</mapprojn>
          <transmer>
            <sfctrmer Sync="TRUE">0.999600</sfctrmer>
            <longcm Sync="TRUE">-114.000000</longcm>
            <latprjo Sync="TRUE">42.000000</latprjo>
            <feast Sync="TRUE">2500000.000000</feast>
            <fnorth Sync="TRUE">1200000.000000</fnorth>
          </transmer>
        </mapproj>
        <planci>
          <plance Sync="TRUE">row and column</plance>
          <plandu Sync="TRUE">meters</plandu>
          <coordrep>
            <absres Sync="TRUE">3.500000</absres>
            <ordres Sync="TRUE">3.500000</ordres>
          </coordrep>
        </planci>
      </planar>
      <geodetic>
        <horizdn Sync="TRUE">North American Datum of 1983</horizdn>
        <ellips Sync="TRUE">Geodetic Reference System 80</ellips>
        <semiaxis Sync="TRUE">6378137.000000</semiaxis>
        <denflat Sync="TRUE">298.257222</denflat>
      </geodetic>
    </horizsys>
  </spref>
</metadata>