<?xml version="1.0" encoding="ISO-8859-1"?>
<metadata>
  <idinfo>
    <citation>
      <citeinfo>
        <origin>3001, Inc.</origin>
        <pubdate>2009</pubdate>
        <title>3001 High Resolution Orthoimage USNG 11UNQ385360, Idaho British Columbia AOI, OBP Sector Spokane</title>
        <geoform>remote-sensing image</geoform>
        <serinfo>
          <sername>Border Area Orthoimagery</sername>
          <issue>
          </issue>
        </serinfo>
        <pubinfo>
          <pubplace>Peachtree City, GA</pubplace>
          <publish>3001, Inc.</publish>
        </pubinfo>
        <othercit>
        </othercit>
        <onlink>
        </onlink>
      </citeinfo>
    </citation>
    <descript>
      <abstract>An orthoimage is remotely sensed image data in which displacement of features in the image caused by terrain relief and sensor orientation have been mathematically removed. Orthoimagery combines the image characteristics of a photograph with the geometric qualities of a map. For this dataset, the natural color orthoimages were produced at 0.3-meter pixel resolution (approximately 1-foot). The design accuracy is estimated not to exceed 6 meter horizontal RMSE for locations within the United States. Each orthoimage provides imagery for a 1500-meter by 1500-meter block on the ground. The projected coordinate system is UTM with a NAD83 datum, spheroid GRS80. There is no image overlap between adjacent files. The naming convention is based on the U.S. National Grid (USNG), taking the coordinates of the SW corner of the orthoimage.</abstract>
      <purpose>These data have been created as a result of the need for having geospatial data immediately available and easily accessible in order to provide geographic reference for federal, state, and local emergency responders, as well as for homeland security efforts.  Orthoimages also serve a variety of purposes, from interim maps to field references for earth science investigations and analysis.  The digital orthoimage is useful as a layer of a geographic information system.  These data can be used to provide reference information for web browsers and for map applications at a scale of 1:100,000 or smaller.</purpose>
      <supplinf>
      </supplinf>
    </descript>
    <timeperd>
      <timeinfo>
        <sngdate>
          <caldate>20090701</caldate>
        </sngdate>
      </timeinfo>
      <current>ground condition</current>
    </timeperd>
    <status>
      <progress>Complete</progress>
      <update>Irregular</update>
    </status>
    <spdom>
      <bounding>
        <westbc>-116.47283046</westbc>
        <eastbc>-116.45214395</eastbc>
        <northbc>49.08914868</northbc>
        <southbc>49.0755604</southbc>
      </bounding>
    </spdom>
    <keywords>
      <theme>
        <themekt>None</themekt>
        <themekey>digital spatial data</themekey>
        <themekey>0.3 meter orthoimage</themekey>
        <themekey>rectified image</themekey>
        <themekey>orthophoto</themekey>
        <themekey>natural color orthophoto</themekey>
        <themekey>digital orthophoto image map (DOI)</themekey>
        <themekey>orthoimage</themekey>
        <themekey>image map</themekey>
      </theme>
      <theme>
        <themekt>ISO 19115 Category</themekt>
        <themekey>imageryBaseMapsEarthCover</themekey>
        <themekey>
        </themekey>
        <themekey>
        </themekey>
        <themekey>
        </themekey>
        <themekey>
        </themekey>
        <themekey>
        </themekey>
      </theme>
      <place>
        <placekt>U.S. Department of Commerce, 1995, Countries, Dependencies, Areas of Special Sovereignty, and Their Principal Administrative Divisions (Federal Information Processing Standard (FIPS) 10-4): Washington, D.C., National Institute of Standards and Technology.</placekt>
        <placekey>United States</placekey>
        <placekey>U.S.</placekey>
        <placekey>US</placekey>
        <placekey>CA</placekey>
      </place>
      <place>
        <placekt>U.S. Department of Commerce, 1987, Codes for the Identification of the States, the District of Columbia and the outlying areas of the United States, and associated areas (Federal Information Processing Standard (FIPS) 5-2): Washington, D.C., National Institute of Standards and Technology.</placekt>
        <placekey>WA</placekey>
        <placekey>ID</placekey>
        <placekey>MT</placekey>
      </place>
      <place>
        <placekt>Geographic Names Information System</placekt>
        <placekey>Idaho British Columbia</placekey>
      </place>
      <place>
        <placekt>None</placekt>
        <placekey>AOI #006</placekey>
      </place>
      <place>
        <placekt>None</placekt>
        <placekey>OBP Sector Spokane</placekey>
      </place>
      <place>
        <placekt>None</placekt>
        <placekey>B006</placekey>
      </place>
    </keywords>
    <accconst>Any downloading and use of these data signifies a users agreement to comprehension and compliance of the U.S. Government Standard Disclaimer.  Insure all portions of metadata are read and clearly understood before using these data in order to protect both user and U.S. Government interests.</accconst>
    <useconst>There is no guarantee of warranty concerning the accuracy of the data.  Users should be aware that temporal changes may have occurred since this data set was collected and that some parts of this data may no longer represent actual surface conditions.  Users should not use this data for critical applications without a full awareness of its limitations.  Acknowledgement of the originating agencies would be appreciated in products derived from these data.  Any user who modifies the data is obligated to describe the types of modifications they perform.  User specifically agrees not to misrepresent the data, nor to imply that changes made were approved or endorsed by the U.S. Government.</useconst>
    <ptcontac>
      <cntinfo>
        <cntorgp>
          <cntorg>
          </cntorg>
        </cntorgp>
        <cntpos>
        </cntpos>
        <cntaddr>
          <addrtype>
          </addrtype>
          <address>
          </address>
          <address>
          </address>
          <city>
          </city>
          <state>
          </state>
          <postal>
          </postal>
          <country>
          </country>
        </cntaddr>
        <cntvoice>
        </cntvoice>
        <cntvoice>
        </cntvoice>
        <cnttdd>
        </cnttdd>
        <cntfax>
        </cntfax>
        <cntemail>
        </cntemail>
        <hours>
        </hours>
      </cntinfo>
    </ptcontac>
    <datacred>3001, Inc.</datacred>
    <secinfo>
      <secsys>None</secsys>
      <secclass>Unclassified</secclass>
      <sechandl>N/A</sechandl>
    </secinfo>
    <native>Microsoft Windows XP, Service Pack 2; ESRI ArcMap 9.1</native>
  </idinfo>
  <dataqual>
    <attracc>
      <attraccr>Sample points taken from overlapping areas of adjacent image frames along a single flight line and between strips along adjacent flight lines are typically consistent to the 2-3 pixel level. This not only ensures that a consistent mosaic can be created from the adjacent frames and image strips acquired with the DMC digital frame mapping system but also means that the images have good precision and as a group are spatially self-consistent.</attraccr>
    </attracc>
    <logic>Compliance with the accuracy standard was ensured by the use of photo identifiable ground control points and/or the collection of airborne GPS data.</logic>
    <complete>Pixels outside the project boundary are represented with the numeric value of 0,0,0.</complete>
    <posacc>
      <horizpa>
        <horizpar>The accuracy value for locations within the United States was determined by measuring photo-identifiable control points collected with GPS survey methods in the orthophotos.</horizpar>
        <qhorizpa>
          <horizpav>6.0</horizpav>
          <horizpae>FGDC Geospatial Positioning Accuracy Standards, Part 3: National Standard for Spatial Data Accuracy (NSSDA)</horizpae>
        </qhorizpa>
      </horizpa>
    </posacc>
    <lineage>
      <srcinfo>
        <srccite>
          <citeinfo>
            <origin>3001, Inc.</origin>
            <pubdate>2009</pubdate>
            <title>imagery</title>
            <geoform>raster digital data</geoform>
            <serinfo>
              <sername>Border Area Orthoimagery</sername>
              <issue>
              </issue>
            </serinfo>
            <pubinfo>
              <pubplace>Peachtree City, GA</pubplace>
              <publish>3001, Inc.</publish>
            </pubinfo>
          </citeinfo>
        </srccite>
        <typesrc>raster digital data</typesrc>
        <srctime>
          <timeinfo>
            <sngdate>
              <caldate>20090701</caldate>
            </sngdate>
          </timeinfo>
          <srccurr>ground condition</srccurr>
        </srctime>
        <srccitea>imagery</srccitea>
        <srccontr>Aerial imagery was captured with a Z/I Digital Mapping Camera.</srccontr>
      </srcinfo>
      <procstep>
        <procdesc>Ground control consisted of photo identifiable surveyed points within the United States. The imagery was collected at an average altitude of 9843 ft above mean terrain (AMT) using a frame-based Z/I Imaging Digital Mapping Camera (DMC). Overlap between adjacent frames along the flight line was approximately 60% and overlap between adjacent flight lines was approximately 30%.  Corrections for camera and airplane exterior orientation (EO) variations were made with input from a combination of ground-, plane-, and space-based survey inputs (e.g., ABGPS, IMU, CORS Stations, Base Stations).  The DMC collects 12-bit image data per channel which are resampled during post processing to standard 8-bit image data.  The reduction in dynamic range (from 4,096 to 256) is performed in a manner designed to capture the greatest amount of information in each image, and preserve bright and dark values. Image quality was verified during the post flight review phase. Factors considered during this review included but were not limited to the presence of smoke and/or cloud cover, contrails, light conditions and sun glint.  Pan-sharpened red, green, blue, and NIR bands were combined to generate digital image frames.  Geometric correction of mosaicked frames of land areas within and laterally contiguous to the United States was performed via aerial triangulation and orthorectification using a recent DSM of the area provided as GFI (SRTM2, DTED2, Intermap NEXTmap USA, Canada NED, Mexican Border Lidar), and supplemented with higher resolution DSM data where readily available. The vertical accuracy of the DSM varies based on the elevation postings of GFI products and requirements thereof.  Color balancing was performed to reduce radiometric variability between frames, and seamlines were generated using both automated and manual methods.  Project specified tiles of the red, green, and blue bands were extracted from the mosaic to produce a natural color digital orthophoto image map.  Final image tiles were reviewed for artifacts and anomalies and adjusted as part of quality control procedures. When necessary, local corrections to the imagery were performed to minimize such effects.</procdesc>
        <procdate>20090825</procdate>
        <proccont>
          <cntinfo>
            <cntorgp>
              <cntorg>
              </cntorg>
            </cntorgp>
            <cntpos>
            </cntpos>
            <cntaddr>
              <addrtype>
              </addrtype>
              <address>
              </address>
              <address>
              </address>
              <city>
              </city>
              <state>
              </state>
              <postal>
              </postal>
              <country>
              </country>
            </cntaddr>
            <cntvoice>
            </cntvoice>
            <cntvoice>
            </cntvoice>
            <cnttdd>
            </cnttdd>
            <cntfax>
            </cntfax>
            <cntemail>
            </cntemail>
            <hours>
            </hours>
            <cntinst>
            </cntinst>
          </cntinfo>
        </proccont>
      </procstep>
    </lineage>
  </dataqual>
  <spdoinfo>
    <direct>Raster</direct>
    <rastinfo>
      <rasttype>Pixel</rasttype>
      <rowcount>5000</rowcount>
      <colcount>5000</colcount>
    </rastinfo>
  </spdoinfo>
  <spref>
    <horizsys>
      <planar>
        <gridsys>
          <gridsysn>Universal Transverse Mercator</gridsysn>
          <utm>
            <utmzone>11</utmzone>
            <transmer>
              <sfctrmer>0.9996</sfctrmer>
              <longcm>-117.000000</longcm>
              <latprjo>+00.000000</latprjo>
              <feast>500000.0</feast>
              <fnorth>0</fnorth>
            </transmer>
          </utm>
        </gridsys>
        <planci>
          <plance>coordinate pair</plance>
          <coordrep>
            <absres>0.3</absres>
            <ordres>0.3</ordres>
          </coordrep>
          <plandu>meters</plandu>
        </planci>
      </planar>
      <geodetic>
        <horizdn>North American Datum of 1983</horizdn>
        <ellips>Geodetic Reference System 1980</ellips>
        <semiaxis>6378137</semiaxis>
        <denflat>298.2572221</denflat>
      </geodetic>
    </horizsys>
  </spref>
  <eainfo>
    <overview>
      <eaover>Natural color orthoimagery is organized in three color bands or channels which represent the red, green, and blue (RGB) portions of the spectrum.  Each image pixel is assigned a triplet of numeric values, one for each color band.  Numeric values range from 0 to 255.  Pixels outside the project boundary are represented with the numeric value of 0,0,0.</eaover>
      <eadetcit>
      </eadetcit>
    </overview>
  </eainfo>
  <metainfo>
    <metd>20090828</metd>
    <metc>
      <cntinfo>
        <cntorgp>
          <cntorg>
          </cntorg>
        </cntorgp>
        <cntpos>
        </cntpos>
        <cntaddr>
          <addrtype>
          </addrtype>
          <address>
          </address>
          <address>
          </address>
          <city>
          </city>
          <state>
          </state>
          <postal>
          </postal>
          <country>
          </country>
        </cntaddr>
        <cntvoice>
        </cntvoice>
        <cntvoice>
        </cntvoice>
        <cnttdd>
        </cnttdd>
        <cntfax>
        </cntfax>
        <cntemail>
        </cntemail>
        <hours>
        </hours>
        <cntinst>
        </cntinst>
      </cntinfo>
    </metc>
    <metstdn>None</metstdn>
    <metstdv>FGDC-STD-001-1998</metstdv>
    <mettc>local time</mettc>
    <metac>None</metac>
    <metuc>None</metuc>
    <metsi>
      <metscs>None</metscs>
      <metsc>Unclassified</metsc>
      <metshd>None</metshd>
    </metsi>
    <metextns>
      <onlink>
      </onlink>
      <metprof>
      </metprof>
    </metextns>
  </metainfo>
  <distinfo>
    <distrib>
      <cntinfo>
        <cntpos>GIS Librarian</cntpos>
        <cntaddr>
          <addrtype>mailing address</addrtype>
          <address>850 S Rayburn Street</address>
          <city>Moscow</city>
          <state>ID</state>
          <postal>83844-2350</postal>
          <country>USA</country>
        </cntaddr>
        <cntvoice>208.292.1407</cntvoice>
        <cntemail>bgodfrey@uidaho.edu</cntemail>
        <cntorgp>
          <cntorg>University of Idaho Library</cntorg>
          <cntper>Bruce Godfrey</cntper>
        </cntorgp>
      </cntinfo>
    </distrib>
    <distliab>Although these data have been processed successfully on a computer system at the University of Idaho Library, no warranty, expressed or implied, is made regarding the utility of the data on any other system, nor shall the act of distribution constitute any such warranty.</distliab>
  </distinfo>
</metadata>