<?xml version="1.0" encoding="ISO-8859-1"?>
<metadata>
<idinfo>
<citation>
<citeinfo>
<origin>USDA-FSA-APFO Aerial Photography Field Office</origin>
<pubdate>20040309</pubdate>
<title>NAIP Digital Ortho Photo Image</title>
<geoform>remote-sensing image</geoform>
<pubinfo>
<pubplace>Salt Lake City, Utah</pubplace>
<publish>USDA-FSA-APFO Aerial Photography Field Office</publish>
</pubinfo>
</citeinfo>
</citation>
<descript>
<abstract>
This data set contains imagery from the National Agriculture
Imagery Program (NAIP).  NAIP acquires digital ortho imagery
during the agricultural growing seasons in the continental U.S..
A primary goal of the NAIP program is to enable availability of
of ortho imagery within one year of acquisition. NAIP provides
four main products: 1 meter ground sample distance (GSD) ortho
imagery rectified to a horizontal accuracy of within +/- 5
meters of reference digital ortho quarter quads (DOQQ's) from
the National Digital Ortho Program (NDOP); 2 meter GSD
ortho imagery rectified to within +/- 10 meters of reference
DOQQs; 1 meter GSD ortho imagery rectified to within +/- 6
meters to true ground; and, 2 meter GSD ortho imagery rectified
to within +/- 10 meters to true ground.  The tiling format of
NAIP imagery is based on a 3.75' x 3.75' quarter quadrangle
with a 300 meter buffer on all four sides.  NAIP quarter quads
are formatted to the UTM coordinate system using NAD83.  NAIP
imagery may contain as much as 10% cloud cover per tile.
</abstract>
<purpose>
NAIP imagery is available for distribution within 60 days
of the end of a flying season and is intended to provide current
information of agricultural conditions in support of USDA farm
programs. For USDA Farm Service Agency, the 1 meter GSD product
provides an ortho image base for Common Land Unit boundaries and
other data sets.  The 1 meter NAIP imagery is generally acquired
in projects covering full states in cooperation with state
government and other federal agencies who use the imagery for a
variety of purposes including land use planning and natural
resource assessment.  With an annual cycle, NAIP is also used
for disaster response often providing the most current pre-event
imagery.  While suitable for a variety of uses the 2 meter
GSD NAIP imagery is primarily intended to assess crop condition
and compliance to USDA farm program conditions.  The 2
meter imagery is generally acquired only for agricultural areas
within state projects.
</purpose>
</descript>
<timeperd>
<timeinfo>
<sngdate>
<caldate>20030604</caldate>
</sngdate>
</timeinfo>
<current>Ground Condition</current>
</timeperd>
<status>
<progress>Complete</progress>
<update>Irregular</update>
</status>
<spdom>
<bounding>
<westbc>-111.3750</westbc>
<eastbc>-111.3125</eastbc>
<northbc>42.3125</northbc>
<southbc>42.2500</southbc>
</bounding>
</spdom>
<keywords>
<theme>
<themekt>None</themekt>
<themekey>farming</themekey>
<themekey>Digital Ortho rectified Image</themekey>
<themekey>Ortho Rectification</themekey>
<themekey>Quarter Quadrangle Centered</themekey>
<themekey>NAIP</themekey>
<themekey>Aerial Compliance</themekey>
<themekey>Compliance</themekey>
</theme>
<place>
<placekt>Geographic Names Information System</placekt>
<placekey>ID</placekey>
<placekey>Bear Lake</placekey>
<placekey>16007</placekey>
<placekey>ID007</placekey>
<placekey>BEAR LAKE CO ID FSA</placekey>
<placekey>4211146</placekey>
<placekey>MONTPELIER, SW</placekey>
<placekey>MONTPELIER</placekey>
</place>
</keywords>
<accconst>There are no limitations for access.</accconst>
<useconst>
Imagery may be replaced to address defects found in a
small number of products through quality assurance
processes.  Imagery containing defects that require
the acquisition of new imagery, such as excessive
cloud cover, specular reflectance, etc., will not be
replaced within a NAIP project year.
</useconst>
<ptcontac>
<cntinfo>
<cntorgp>
<cntorg>Aerial Photography Field Office (APFO)</cntorg>
</cntorgp>
<cntaddr>
<addrtype>mailing and physical address</addrtype>
<address>2222 West 2300 South</address>
<city>Salt Lake City</city>
<state>Utah</state>
<postal>84119-2020</postal>
<country>USA</country>
</cntaddr>
<cntvoice>801-844-2922</cntvoice>
<cntfax>801-956-3653</cntfax>
<cntemail>apfo.sales@slc.usda.gov</cntemail>
</cntinfo>
</ptcontac>
<browse>
<browsen>None</browsen>
<browsed>None</browsed>
<browset>None</browset>
</browse>
<native>Dell CPU ImageStation ISAT IRASC &amp; BaseRectifier</native>
</idinfo>
<dataqual>
<logic>
NAIP 3.75 minute tile file names are based
on the USGS quadrangle naming convention.
</logic>
<complete>None</complete>
<posacc>
<horizpa>
<horizpar>FSA Digital Orthophoto Specs.</horizpar>
</horizpa>
</posacc>
<lineage>
<srcinfo>
<srccite>
<citeinfo>
<origin>USDA-FSA-APFO Aerial Photography Field Office</origin>
<pubdate>20040309</pubdate>
<title>MONTPELIER, SW</title>
<geoform>remote-sensing image</geoform>
</citeinfo>
</srccite>
<typesrc>Digital Linear Tape (DLT)</typesrc>
<srctime>
<timeinfo>
<sngdate>
<caldate>20030604</caldate>
</sngdate>
</timeinfo>
<srccurr>Aerial Photography Date for Roll No. 06011  Exp. No. 105</srccurr>
</srctime>
<srccitea>Georectifed Image</srccitea>
<srccontr>Digital Georectifed Image.</srccontr>
</srcinfo>
<procstep>
<procdesc>
Color positive film (Kodak 2427) is scanned using Z/I
PhotoScan photogrammetric quality scanning machines
at a resolution of 21 microns. The scanned digital
imagery is used in the Aerial Triangulation (AT)
process in preparation for ortho-rectification. The
horizontal accuracy of the orthorectified imagery is
primarily determined by the quality of the AT
solution and the surface model (digital elevation
model or DEM). The AT process is initiated with the
population of Z/I project files with ABGPS and
horizontal control picked from USDA furnished
mosaicked DOQQs (mDOQQs) and vertical control picked
from the USGS DTED 2 DEM data. Images are tied together
using Z/I ISAT automatic image correlation software
with supplemental manually read points using Z/I ISDM
software. Upon completion of mensuration, a preliminary
adjustment is run to check for image blunders and poor
image ties using PATB-NT software. Tie points are
corrected or added, ground control is measured and the
adjustment is run with ABGPS data and ground control.
Withholding select ground control points performs
quality control of the adjustment. AT is finalized by
densifying the control and generating relative and
absolute orientations (RO and AO) for each frame of
photography. Orthorectifications are performed on the
core portion of each image to minimize the radial
horizontal displacement away from the photocenter.
Each DOQQ is inspected for relative horizontal
accuracy with adjacent DOQQ tiles. A sample of DOQQs
is inspected for relative horizontal accuracy with
the USDA furnished mDOQQs. Completed and approved DOQQs
are assembled into a countywide MrSID file, using a
compression factor of 1:50.
</procdesc>
<procdate>20040309</procdate>
</procstep>
</lineage>
</dataqual>
<spdoinfo>
<indspref>Bear Lake County, ID</indspref>
<direct>Raster</direct>
<rastinfo>
<rasttype>Pixel</rasttype>
<rowcount>7681</rowcount>
<colcount>5901</colcount>
</rastinfo>
</spdoinfo>
<spref>
<horizsys>
<planar>
<gridsys>
<gridsysn>Universal Transverse Mercator</gridsysn>
<utm>
<utmzone>12</utmzone>
<transmer>
<sfctrmer>0.9996</sfctrmer>
<longcm>-111.0</longcm>
<latprjo>0.0</latprjo>
<feast>500000</feast>
<fnorth>0.0</fnorth>
</transmer>
</utm>
</gridsys>
<planci>
<plance>row and column</plance>
<coordrep>
<absres>1</absres>
<ordres>1</ordres>
</coordrep>
<plandu>meters</plandu>
</planci>
</planar>
<geodetic>
<horizdn>North American Datum of 1983</horizdn>
<ellips>Geodetic Reference System 80 (GRS 80)</ellips>
<semiaxis>6378137</semiaxis>
<denflat>298.257</denflat>
</geodetic>
</horizsys>
</spref>
<eainfo>
<overview>
<eaover>24-bit pixels, 3 band color(RGB) values 0 - 255</eaover>
<eadetcit>None</eadetcit>
</overview>
</eainfo>
<distinfo>
<distrib>
<cntinfo>
<cntperp>
<cntper>Supervisor Customer Services Section</cntper>
<cntorg>USDA-FSA-APFO Aerial Photography Field Office</cntorg>
</cntperp>
<cntaddr>
<addrtype>mailing and physical address</addrtype>
<address>2222 West 2300 South</address>
<city>Salt Lake City</city>
<state>Utah</state>
<postal>84119-2020</postal>
<country>USA</country>
</cntaddr>
<cntvoice>801-844-2922</cntvoice>
<cntfax>801-956-3653</cntfax>
<cntemail>apfo.sales@slc.usda.gov</cntemail>
</cntinfo>
</distrib>
<resdesc>n_4211146_sw_12_1_20030604_20040225.tif</resdesc>
<distliab>
In no event shall the creators, custodians, or distributors
of this information be liable for any damages arising out
of its use (or the inability to use it).
</distliab>
<stdorder>
<digform>
<digtinfo>
<formname>GeoTIFF - Georeferenced Tagged Image File Format</formname>
<formcont>Natural Color</formcont>
</digtinfo>
<digtopt>
<offoptn>
<offmedia>CD-ROM</offmedia>
<recfmt>ISO 9660 Mode 1 Level 2 Extensions</recfmt>
</offoptn>
</digtopt>
</digform>
<fees>
Contact the Aerial Photography Field Office
for more information
</fees>
</stdorder>
</distinfo>
<metainfo>
<metd>20040309</metd>
<metc>
<cntinfo>
<cntorgp>
<cntorg>USDA-FSA-APFO Aerial Photography Field Office</cntorg>
</cntorgp>
<cntaddr>
<addrtype>mailing and physical address</addrtype>
<address>2222 West 2300 South</address>
<city>Salt Lake City</city>
<state>Utah</state>
<postal>84119-2020</postal>
<country>USA</country>
</cntaddr>
<cntvoice>801-844-2922</cntvoice>
</cntinfo>
</metc>
<metstdn>Content Standard for Digital Geospatial Metadata</metstdn>
<metstdv>FGDC-STD-001-1998</metstdv>
</metainfo>
</metadata>
